Package: SimBu Version: 1.9.0 Command: /Library/Frameworks/R.framework/Resources/bin/R CMD INSTALL SimBu StartedAt: 2025-02-19 15:22:47 -0500 (Wed, 19 Feb 2025) EndedAt: 2025-02-19 15:22:50 -0500 (Wed, 19 Feb 2025) EllapsedTime: 3.2 seconds RetCode: 0 Status: OK