Package: SigsPack Version: 1.21.0 Command: E:\biocbuild\bbs-3.21-bioc\R\bin\R.exe CMD check --no-multiarch --install=check:SigsPack.install-out.txt --library=E:\biocbuild\bbs-3.21-bioc\R\library --no-vignettes --timings SigsPack_1.21.0.tar.gz StartedAt: 2025-02-21 05:46:14 -0500 (Fri, 21 Feb 2025) EndedAt: 2025-02-21 05:54:20 -0500 (Fri, 21 Feb 2025) EllapsedTime: 486.5 seconds RetCode: 0 Status: OK CheckDir: SigsPack.Rcheck Warnings: 0