Package: SigsPack Version: 1.21.0 Command: /home/biocbuild/bbs-3.21-bioc/R/bin/R CMD INSTALL SigsPack StartedAt: 2025-02-20 15:56:00 -0500 (Thu, 20 Feb 2025) EndedAt: 2025-02-20 15:56:03 -0500 (Thu, 20 Feb 2025) EllapsedTime: 2.3 seconds RetCode: 0 Status: OK