Package: SigsPack Version: 1.21.0 Command: /Library/Frameworks/R.framework/Resources/bin/R CMD INSTALL SigsPack StartedAt: 2025-02-20 15:20:13 -0500 (Thu, 20 Feb 2025) EndedAt: 2025-02-20 15:20:17 -0500 (Thu, 20 Feb 2025) EllapsedTime: 3.7 seconds RetCode: 0 Status: OK