Package: SigsPack Version: 1.21.0 Command: /Library/Frameworks/R.framework/Resources/bin/R CMD check --install=check:SigsPack.install-out.txt --library=/Library/Frameworks/R.framework/Resources/library --no-vignettes --timings SigsPack_1.21.0.tar.gz StartedAt: 2025-02-20 23:17:38 -0500 (Thu, 20 Feb 2025) EndedAt: 2025-02-20 23:20:21 -0500 (Thu, 20 Feb 2025) EllapsedTime: 162.9 seconds RetCode: 0 Status: OK CheckDir: SigsPack.Rcheck Warnings: 0