Package: SigsPack Version: 1.21.0 Command: /home/biocbuild/R/R/bin/R CMD check --install=check:SigsPack.install-out.txt --library=/home/biocbuild/R/R/site-library --no-vignettes --timings SigsPack_1.21.0.tar.gz StartedAt: 2025-01-28 15:21:27 -0000 (Tue, 28 Jan 2025) EndedAt: 2025-01-28 15:24:06 -0000 (Tue, 28 Jan 2025) EllapsedTime: 158.2 seconds RetCode: 0 Status: OK CheckDir: SigsPack.Rcheck Warnings: 0