Package: SigsPack Version: 1.21.0 Command: /Library/Frameworks/R.framework/Resources/bin/R CMD INSTALL SigsPack StartedAt: 2025-02-20 15:10:53 -0500 (Thu, 20 Feb 2025) EndedAt: 2025-02-20 15:10:54 -0500 (Thu, 20 Feb 2025) EllapsedTime: 1.2 seconds RetCode: 0 Status: OK