Package: SigsPack Version: 1.21.0 Command: /Library/Frameworks/R.framework/Resources/bin/R CMD build --keep-empty-dirs --no-resave-data SigsPack StartedAt: 2025-02-20 17:36:56 -0500 (Thu, 20 Feb 2025) EndedAt: 2025-02-20 17:37:44 -0500 (Thu, 20 Feb 2025) EllapsedTime: 47.5 seconds RetCode: 0 Status: OK PackageFile: SigsPack_1.21.0.tar.gz PackageFileSize: 529.7 KiB