Package: SigFuge Version: 1.45.0 Command: /home/biocbuild/bbs-3.21-bioc/R/bin/R CMD INSTALL SigFuge StartedAt: 2025-02-19 15:30:26 -0500 (Wed, 19 Feb 2025) EndedAt: 2025-02-19 15:30:38 -0500 (Wed, 19 Feb 2025) EllapsedTime: 12.0 seconds RetCode: 0 Status: OK