Package: SigFuge Version: 1.45.0 Command: /Library/Frameworks/R.framework/Resources/bin/R CMD build --keep-empty-dirs --no-resave-data SigFuge StartedAt: 2025-02-19 18:16:57 -0500 (Wed, 19 Feb 2025) EndedAt: 2025-02-19 18:17:57 -0500 (Wed, 19 Feb 2025) EllapsedTime: 59.4 seconds RetCode: 0 Status: OK PackageFile: SigFuge_1.45.0.tar.gz PackageFileSize: 1.459 MiB