Package: SigCheck Version: 2.39.1 Command: E:\biocbuild\bbs-3.21-bioc\R\bin\R.exe CMD INSTALL SigCheck StartedAt: 2025-02-19 16:36:23 -0500 (Wed, 19 Feb 2025) EndedAt: 2025-02-19 16:37:14 -0500 (Wed, 19 Feb 2025) EllapsedTime: 50.5 seconds RetCode: 0 Status: OK