Package: SigCheck Version: 2.39.1 Command: E:\biocbuild\bbs-3.21-bioc\R\bin\R.exe CMD check --no-multiarch --install=check:SigCheck.install-out.txt --library=E:\biocbuild\bbs-3.21-bioc\R\library --no-vignettes --timings SigCheck_2.39.1.tar.gz StartedAt: 2025-02-20 05:27:50 -0500 (Thu, 20 Feb 2025) EndedAt: 2025-02-20 05:36:18 -0500 (Thu, 20 Feb 2025) EllapsedTime: 507.9 seconds RetCode: 0 Status: OK CheckDir: SigCheck.Rcheck Warnings: 0