Package: SigCheck Version: 2.39.1 Command: /Library/Frameworks/R.framework/Resources/bin/R CMD check --install=check:SigCheck.install-out.txt --library=/Library/Frameworks/R.framework/Resources/library --no-vignettes --timings SigCheck_2.39.1.tar.gz StartedAt: 2025-02-19 23:17:57 -0500 (Wed, 19 Feb 2025) EndedAt: 2025-02-19 23:25:33 -0500 (Wed, 19 Feb 2025) EllapsedTime: 456.5 seconds RetCode: 0 Status: OK CheckDir: SigCheck.Rcheck Warnings: 0