Package: SigCheck Version: 2.39.1 Command: rm -rf SigCheck.buildbin-libdir && mkdir SigCheck.buildbin-libdir && /Users/biocbuild/BBS/utils/build-universal.sh SigCheck_2.39.1.tar.gz /Library/Frameworks/R.framework/Resources/bin/R SigCheck.buildbin-libdir StartedAt: 2025-02-20 00:54:57 -0500 (Thu, 20 Feb 2025) EndedAt: 2025-02-20 00:55:40 -0500 (Thu, 20 Feb 2025) EllapsedTime: 42.8 seconds RetCode: 0 Status: OK PackageFile: SigCheck_2.39.1.tgz PackageFileSize: 730.6 KiB