Package: SigCheck Version: 2.39.1 Maintainer: Rory Stark MaintainerEmail: bioconductor at starkhome.com git_url: https://git.bioconductor.org/packages/SigCheck git_branch: devel git_last_commit: 8c08261 git_last_commit_date: 2025-02-14 07:25:31 -0500 (Fri, 14 Feb 2025)