Package: SiPSiC Version: 1.7.0 Command: /home/biocbuild/bbs-3.21-bioc/R/bin/R CMD INSTALL SiPSiC StartedAt: 2025-02-20 15:29:03 -0500 (Thu, 20 Feb 2025) EndedAt: 2025-02-20 15:29:25 -0500 (Thu, 20 Feb 2025) EllapsedTime: 22.2 seconds RetCode: 0 Status: OK