Package: SiPSiC Version: 1.7.0 Command: /home/biocbuild/bbs-3.21-bioc/R/bin/R CMD build --keep-empty-dirs --no-resave-data SiPSiC StartedAt: 2025-02-20 19:20:01 -0500 (Thu, 20 Feb 2025) EndedAt: 2025-02-20 19:20:33 -0500 (Thu, 20 Feb 2025) EllapsedTime: 32.1 seconds RetCode: 0 Status: OK PackageFile: SiPSiC_1.7.0.tar.gz PackageFileSize: 236.9 KiB