Package: SiPSiC Version: 1.7.0 Command: /Library/Frameworks/R.framework/Resources/bin/R CMD check --install=check:SiPSiC.install-out.txt --library=/Library/Frameworks/R.framework/Resources/library --no-vignettes --timings SiPSiC_1.7.0.tar.gz StartedAt: 2025-02-20 21:29:06 -0500 (Thu, 20 Feb 2025) EndedAt: 2025-02-20 21:30:04 -0500 (Thu, 20 Feb 2025) EllapsedTime: 58.7 seconds RetCode: 0 Status: OK CheckDir: SiPSiC.Rcheck Warnings: 0