Package: SiPSiC Version: 1.7.0 Command: /Library/Frameworks/R.framework/Resources/bin/R CMD build --keep-empty-dirs --no-resave-data SiPSiC StartedAt: 2025-02-20 17:38:10 -0500 (Thu, 20 Feb 2025) EndedAt: 2025-02-20 17:38:24 -0500 (Thu, 20 Feb 2025) EllapsedTime: 14.2 seconds RetCode: 0 Status: OK PackageFile: SiPSiC_1.7.0.tar.gz PackageFileSize: 236.8 KiB