Package: ShortRead Version: 1.65.0 Command: /home/biocbuild/bbs-3.21-bioc/R/bin/R CMD build --keep-empty-dirs --no-resave-data ShortRead StartedAt: 2025-02-20 19:17:20 -0500 (Thu, 20 Feb 2025) EndedAt: 2025-02-20 19:18:25 -0500 (Thu, 20 Feb 2025) EllapsedTime: 64.1 seconds RetCode: 0 Status: OK PackageFile: ShortRead_1.65.0.tar.gz PackageFileSize: 5.06 MiB