Package: SharedObject Version: 1.21.0 Command: rm -rf SharedObject.buildbin-libdir && mkdir SharedObject.buildbin-libdir && E:\biocbuild\bbs-3.21-bioc\R\bin\R.exe CMD INSTALL --build --library=SharedObject.buildbin-libdir SharedObject_1.21.0.tar.gz StartedAt: 2025-02-20 08:46:03 -0500 (Thu, 20 Feb 2025) EndedAt: 2025-02-20 08:47:38 -0500 (Thu, 20 Feb 2025) EllapsedTime: 95.2 seconds RetCode: 0 Status: OK PackageFile: SharedObject_1.21.0.zip PackageFileSize: 1.294 MiB