Package: SharedObject Version: 1.22.0 Command: /Library/Frameworks/R.framework/Resources/bin/R CMD build --keep-empty-dirs --no-resave-data SharedObject StartedAt: 2025-10-13 22:39:11 -0400 (Mon, 13 Oct 2025) EndedAt: 2025-10-13 22:40:33 -0400 (Mon, 13 Oct 2025) EllapsedTime: 81.7 seconds RetCode: 0 Status: OK PackageFile: SharedObject_1.22.0.tar.gz PackageFileSize: 1.897 MiB