Package: SharedObject Version: 1.22.0 Command: rm -rf SharedObject.buildbin-libdir && mkdir SharedObject.buildbin-libdir && /Users/biocbuild/BBS/utils/build-universal.sh SharedObject_1.22.0.tar.gz /Library/Frameworks/R.framework/Resources/bin/R SharedObject.buildbin-libdir StartedAt: 2025-10-14 14:47:17 -0400 (Tue, 14 Oct 2025) EndedAt: 2025-10-14 14:48:32 -0400 (Tue, 14 Oct 2025) EllapsedTime: 75.0 seconds RetCode: 0 Status: OK PackageFile: SharedObject_1.22.0.tgz PackageFileSize: 2.004 MiB