Package: SharedObject Version: 1.22.0 Command: /Library/Frameworks/R.framework/Resources/bin/R CMD INSTALL SharedObject StartedAt: 2025-10-06 15:35:43 -0400 (Mon, 06 Oct 2025) EndedAt: 2025-10-06 15:36:14 -0400 (Mon, 06 Oct 2025) EllapsedTime: 31.0 seconds RetCode: 0 Status: OK