Package: SharedObject Version: 1.22.0 Command: rm -rf SharedObject.buildbin-libdir && mkdir SharedObject.buildbin-libdir && /Users/biocbuild/BBS/utils/build-universal.sh SharedObject_1.22.0.tar.gz /Library/Frameworks/R.framework/Resources/bin/R SharedObject.buildbin-libdir StartedAt: 2025-10-08 23:03:53 -0400 (Wed, 08 Oct 2025) EndedAt: 2025-10-08 23:04:33 -0400 (Wed, 08 Oct 2025) EllapsedTime: 40.5 seconds RetCode: 0 Status: OK PackageFile: SharedObject_1.22.0.tgz PackageFileSize: 1.978 MiB