Package: SeqVarTools Version: 1.45.0 Command: chmod a+r SeqVarTools -R && E:\biocbuild\bbs-3.21-bioc\R\bin\R.exe CMD build --keep-empty-dirs --no-resave-data SeqVarTools StartedAt: 2025-02-19 21:37:59 -0500 (Wed, 19 Feb 2025) EndedAt: 2025-02-19 21:39:50 -0500 (Wed, 19 Feb 2025) EllapsedTime: 110.5 seconds RetCode: 0 Status: OK PackageFile: SeqVarTools_1.45.0.tar.gz PackageFileSize: 1005 KiB