Package: SeqVarTools Version: 1.45.0 Command: /Library/Frameworks/R.framework/Resources/bin/R CMD INSTALL SeqVarTools StartedAt: 2025-02-19 15:32:36 -0500 (Wed, 19 Feb 2025) EndedAt: 2025-02-19 15:33:05 -0500 (Wed, 19 Feb 2025) EllapsedTime: 29.5 seconds RetCode: 0 Status: OK