Package: SeqSQC Version: 1.29.0 Command: chmod a+r SeqSQC -R && E:\biocbuild\bbs-3.21-bioc\R\bin\R.exe CMD build --keep-empty-dirs --no-resave-data SeqSQC StartedAt: 2025-02-20 21:46:21 -0500 (Thu, 20 Feb 2025) EndedAt: 2025-02-20 21:48:38 -0500 (Thu, 20 Feb 2025) EllapsedTime: 136.9 seconds RetCode: 0 Status: OK PackageFile: SeqSQC_1.29.0.tar.gz PackageFileSize: 4.338 MiB