Package: SeqSQC Version: 1.29.0 Command: /home/biocbuild/bbs-3.21-bioc/R/bin/R CMD build --keep-empty-dirs --no-resave-data SeqSQC StartedAt: 2025-02-20 19:16:09 -0500 (Thu, 20 Feb 2025) EndedAt: 2025-02-20 19:17:01 -0500 (Thu, 20 Feb 2025) EllapsedTime: 52.1 seconds RetCode: 0 Status: OK PackageFile: SeqSQC_1.29.0.tar.gz PackageFileSize: 4.491 MiB