Package: SeqGate Version: 1.17.0 Command: chmod a+r SeqGate -R && E:\biocbuild\bbs-3.21-bioc\R\bin\R.exe CMD build --keep-empty-dirs --no-resave-data SeqGate StartedAt: 2025-02-19 21:37:07 -0500 (Wed, 19 Feb 2025) EndedAt: 2025-02-19 21:40:15 -0500 (Wed, 19 Feb 2025) EllapsedTime: 187.8 seconds RetCode: 0 Status: OK PackageFile: SeqGate_1.17.0.tar.gz PackageFileSize: 248.8 KiB