Package: SeqGate Version: 1.17.0 Command: /home/biocbuild/bbs-3.21-bioc/R/bin/R CMD build --keep-empty-dirs --no-resave-data SeqGate StartedAt: 2025-02-19 19:12:22 -0500 (Wed, 19 Feb 2025) EndedAt: 2025-02-19 19:13:05 -0500 (Wed, 19 Feb 2025) EllapsedTime: 43.1 seconds RetCode: 0 Status: OK PackageFile: SeqGate_1.17.0.tar.gz PackageFileSize: 248.7 KiB