Package: SeqGate Version: 1.17.0 Command: /Library/Frameworks/R.framework/Resources/bin/R CMD INSTALL SeqGate StartedAt: 2025-02-20 15:04:28 -0500 (Thu, 20 Feb 2025) EndedAt: 2025-02-20 15:04:37 -0500 (Thu, 20 Feb 2025) EllapsedTime: 8.4 seconds RetCode: 0 Status: OK