Package: SeqGate Version: 1.17.0 Command: /Library/Frameworks/R.framework/Resources/bin/R CMD check --install=check:SeqGate.install-out.txt --library=/Library/Frameworks/R.framework/Resources/library --no-vignettes --timings SeqGate_1.17.0.tar.gz StartedAt: 2025-02-20 21:23:22 -0500 (Thu, 20 Feb 2025) EndedAt: 2025-02-20 21:24:20 -0500 (Thu, 20 Feb 2025) EllapsedTime: 57.6 seconds RetCode: 0 Status: OK CheckDir: SeqGate.Rcheck Warnings: 0