Package: SeqGate Version: 1.17.0 Command: rm -rf SeqGate.buildbin-libdir && mkdir SeqGate.buildbin-libdir && /Users/biocbuild/BBS/utils/build-universal.sh SeqGate_1.17.0.tar.gz /Library/Frameworks/R.framework/Resources/bin/R SeqGate.buildbin-libdir StartedAt: 2025-02-20 22:35:18 -0500 (Thu, 20 Feb 2025) EndedAt: 2025-02-20 22:35:27 -0500 (Thu, 20 Feb 2025) EllapsedTime: 9.2 seconds RetCode: 0 Status: OK PackageFile: SeqGate_1.17.0.tgz PackageFileSize: 265.8 KiB