Package: SeqGSEA Version: 1.47.0 Command: E:\biocbuild\bbs-3.21-bioc\R\bin\R.exe CMD check --no-multiarch --install=check:SeqGSEA.install-out.txt --library=E:\biocbuild\bbs-3.21-bioc\R\library --no-vignettes --timings SeqGSEA_1.47.0.tar.gz StartedAt: 2025-02-21 05:39:58 -0500 (Fri, 21 Feb 2025) EndedAt: 2025-02-21 05:46:51 -0500 (Fri, 21 Feb 2025) EllapsedTime: 413.4 seconds RetCode: 0 Status: OK CheckDir: SeqGSEA.Rcheck Warnings: 0