Package: SeqGSEA Version: 1.47.0 Command: rm -rf SeqGSEA.buildbin-libdir && mkdir SeqGSEA.buildbin-libdir && E:\biocbuild\bbs-3.21-bioc\R\bin\R.exe CMD INSTALL --build --library=SeqGSEA.buildbin-libdir SeqGSEA_1.47.0.tar.gz StartedAt: 2025-02-21 09:05:07 -0500 (Fri, 21 Feb 2025) EndedAt: 2025-02-21 09:06:06 -0500 (Fri, 21 Feb 2025) EllapsedTime: 58.4 seconds RetCode: 0 Status: OK PackageFile: SeqGSEA_1.47.0.zip PackageFileSize: 1.584 MiB