Package: SeqGSEA Version: 1.47.0 Command: rm -rf SeqGSEA.buildbin-libdir && mkdir SeqGSEA.buildbin-libdir && /Users/biocbuild/BBS/utils/build-universal.sh SeqGSEA_1.47.0.tar.gz /Library/Frameworks/R.framework/Resources/bin/R SeqGSEA.buildbin-libdir StartedAt: 2025-02-21 00:53:11 -0500 (Fri, 21 Feb 2025) EndedAt: 2025-02-21 00:53:58 -0500 (Fri, 21 Feb 2025) EllapsedTime: 47.1 seconds RetCode: 0 Status: OK PackageFile: SeqGSEA_1.47.0.tgz PackageFileSize: 2.083 MiB