Package: SeqGSEA Version: 1.47.0 Command: /Library/Frameworks/R.framework/Resources/bin/R CMD INSTALL SeqGSEA StartedAt: 2025-02-20 15:13:48 -0500 (Thu, 20 Feb 2025) EndedAt: 2025-02-20 15:14:01 -0500 (Thu, 20 Feb 2025) EllapsedTime: 13.3 seconds RetCode: 0 Status: OK