Package: SeqArray Version: 1.47.3 Command: /Library/Frameworks/R.framework/Resources/bin/R CMD INSTALL SeqArray StartedAt: 2025-02-19 15:04:17 -0500 (Wed, 19 Feb 2025) EndedAt: 2025-02-19 15:04:31 -0500 (Wed, 19 Feb 2025) EllapsedTime: 13.4 seconds RetCode: 0 Status: OK