Package: SeqArray Version: 1.48.3 Command: /Library/Frameworks/R.framework/Resources/bin/R CMD INSTALL SeqArray StartedAt: 2025-10-13 16:24:52 -0400 (Mon, 13 Oct 2025) EndedAt: 2025-10-13 16:25:33 -0400 (Mon, 13 Oct 2025) EllapsedTime: 40.7 seconds RetCode: 0 Status: OK