Package: SeqArray Version: 1.48.3 Command: /Library/Frameworks/R.framework/Resources/bin/R CMD build --keep-empty-dirs --no-resave-data SeqArray StartedAt: 2025-10-14 09:17:46 -0400 (Tue, 14 Oct 2025) EndedAt: 2025-10-14 09:20:47 -0400 (Tue, 14 Oct 2025) EllapsedTime: 181.0 seconds RetCode: 0 Status: OK PackageFile: SeqArray_1.48.3.tar.gz PackageFileSize: 3.713 MiB