Package: SeqArray Version: 1.48.3 Command: rm -rf SeqArray.buildbin-libdir && mkdir SeqArray.buildbin-libdir && /Users/biocbuild/BBS/utils/build-universal.sh SeqArray_1.48.3.tar.gz /Library/Frameworks/R.framework/Resources/bin/R SeqArray.buildbin-libdir StartedAt: 2025-10-15 20:29:26 -0400 (Wed, 15 Oct 2025) EndedAt: 2025-10-15 20:30:13 -0400 (Wed, 15 Oct 2025) EllapsedTime: 47.2 seconds RetCode: 0 Status: OK PackageFile: SeqArray_1.48.3.tgz PackageFileSize: 4.18 MiB