Package: SemDist Version: 1.41.0 Command: /Library/Frameworks/R.framework/Resources/bin/R CMD INSTALL SemDist StartedAt: 2025-02-18 15:15:01 -0500 (Tue, 18 Feb 2025) EndedAt: 2025-02-18 15:15:22 -0500 (Tue, 18 Feb 2025) EllapsedTime: 21.0 seconds RetCode: 0 Status: OK