Package: SemDist Version: 1.41.0 Command: /Library/Frameworks/R.framework/Resources/bin/R CMD check --install=check:SemDist.install-out.txt --library=/Library/Frameworks/R.framework/Resources/library --no-vignettes --timings SemDist_1.41.0.tar.gz StartedAt: 2025-02-19 23:11:54 -0500 (Wed, 19 Feb 2025) EndedAt: 2025-02-19 23:14:56 -0500 (Wed, 19 Feb 2025) EllapsedTime: 182.3 seconds RetCode: 0 Status: OK CheckDir: SemDist.Rcheck Warnings: 0