Package: SemDist Version: 1.41.0 Command: /Library/Frameworks/R.framework/Resources/bin/R CMD INSTALL SemDist StartedAt: 2025-02-18 15:09:44 -0500 (Tue, 18 Feb 2025) EndedAt: 2025-02-18 15:09:51 -0500 (Tue, 18 Feb 2025) EllapsedTime: 6.5 seconds RetCode: 0 Status: OK