Package: SemDist Version: 1.41.0 Command: rm -rf SemDist.buildbin-libdir && mkdir SemDist.buildbin-libdir && /Users/biocbuild/BBS/utils/build-universal.sh SemDist_1.41.0.tar.gz /Library/Frameworks/R.framework/Resources/bin/R SemDist.buildbin-libdir StartedAt: 2025-02-19 22:38:21 -0500 (Wed, 19 Feb 2025) EndedAt: 2025-02-19 22:38:27 -0500 (Wed, 19 Feb 2025) EllapsedTime: 6.2 seconds RetCode: 0 Status: OK PackageFile: SemDist_1.41.0.tgz PackageFileSize: 1.991 MiB