Package: ScreenR Version: 1.9.0 Command: /Library/Frameworks/R.framework/Resources/bin/R CMD INSTALL ScreenR StartedAt: 2025-02-18 15:06:10 -0500 (Tue, 18 Feb 2025) EndedAt: 2025-02-18 15:06:12 -0500 (Tue, 18 Feb 2025) EllapsedTime: 2.4 seconds RetCode: 0 Status: OK