Package: ScreenR Version: 1.9.0 Command: /Library/Frameworks/R.framework/Resources/bin/R CMD build --keep-empty-dirs --no-resave-data ScreenR StartedAt: 2025-02-18 17:36:20 -0500 (Tue, 18 Feb 2025) EndedAt: 2025-02-18 17:36:54 -0500 (Tue, 18 Feb 2025) EllapsedTime: 34.4 seconds RetCode: 0 Status: OK PackageFile: ScreenR_1.9.0.tar.gz PackageFileSize: 1.943 MiB