Package: Sconify Version: 1.27.0 Command: E:\biocbuild\bbs-3.21-bioc\R\bin\R.exe CMD INSTALL Sconify StartedAt: 2025-02-20 15:51:38 -0500 (Thu, 20 Feb 2025) EndedAt: 2025-02-20 15:52:06 -0500 (Thu, 20 Feb 2025) EllapsedTime: 27.6 seconds RetCode: 0 Status: OK