Package: Sconify Version: 1.27.0 Command: chmod a+r Sconify -R && E:\biocbuild\bbs-3.21-bioc\R\bin\R.exe CMD build --keep-empty-dirs --no-resave-data Sconify StartedAt: 2025-02-20 21:37:23 -0500 (Thu, 20 Feb 2025) EndedAt: 2025-02-20 21:38:23 -0500 (Thu, 20 Feb 2025) EllapsedTime: 60.9 seconds RetCode: 0 Status: OK PackageFile: Sconify_1.27.0.tar.gz PackageFileSize: 4.381 MiB